BEGIN:VCALENDAR
VERSION:2.0
PRODID:-//Safe Place - ECPv6.15.20//NONSGML v1.0//EN
CALSCALE:GREGORIAN
METHOD:PUBLISH
X-ORIGINAL-URL:https://asafeplaceforhelp.org
X-WR-CALDESC:Events for Safe Place
REFRESH-INTERVAL;VALUE=DURATION:PT1H
X-Robots-Tag:noindex
X-PUBLISHED-TTL:PT1H
BEGIN:VTIMEZONE
TZID:America/Chicago
BEGIN:DAYLIGHT
TZOFFSETFROM:-0600
TZOFFSETTO:-0500
TZNAME:CDT
DTSTART:20220313T080000
END:DAYLIGHT
BEGIN:STANDARD
TZOFFSETFROM:-0500
TZOFFSETTO:-0600
TZNAME:CST
DTSTART:20221106T070000
END:STANDARD
BEGIN:DAYLIGHT
TZOFFSETFROM:-0600
TZOFFSETTO:-0500
TZNAME:CDT
DTSTART:20230312T080000
END:DAYLIGHT
BEGIN:STANDARD
TZOFFSETFROM:-0500
TZOFFSETTO:-0600
TZNAME:CST
DTSTART:20231105T070000
END:STANDARD
BEGIN:DAYLIGHT
TZOFFSETFROM:-0600
TZOFFSETTO:-0500
TZNAME:CDT
DTSTART:20240310T080000
END:DAYLIGHT
BEGIN:STANDARD
TZOFFSETFROM:-0500
TZOFFSETTO:-0600
TZNAME:CST
DTSTART:20241103T070000
END:STANDARD
BEGIN:DAYLIGHT
TZOFFSETFROM:-0600
TZOFFSETTO:-0500
TZNAME:CDT
DTSTART:20250309T080000
END:DAYLIGHT
BEGIN:STANDARD
TZOFFSETFROM:-0500
TZOFFSETTO:-0600
TZNAME:CST
DTSTART:20251102T070000
END:STANDARD
END:VTIMEZONE
BEGIN:VEVENT
DTSTART;TZID=America/Chicago:20231014T180000
DTEND;TZID=America/Chicago:20231014T220000
DTSTAMP:20260420T050722
CREATED:20231011T203813Z
LAST-MODIFIED:20231011T203813Z
UID:20336-1697306400-1697320800@asafeplaceforhelp.org
SUMMARY:Unmask the Violence Gala
DESCRIPTION:
URL:https://asafeplaceforhelp.org/program/unmask-the-violence-gala/
LOCATION:Marriott Lincolnshire Resort
ORGANIZER;CN="A Safe Place":MAILTO:ktanzer@asafeplaceforhelp.org
END:VEVENT
BEGIN:VEVENT
DTSTART;TZID=America/Chicago:20240125T150000
DTEND;TZID=America/Chicago:20240125T173000
DTSTAMP:20260420T050722
CREATED:20240119T145520Z
LAST-MODIFIED:20240119T145520Z
UID:20380-1706194800-1706203800@asafeplaceforhelp.org
SUMMARY:Youth Activities: Snowman Building & Snowflakes
DESCRIPTION:1801 N Sheridan Rd.\,\nNorth Chicago\, IL
URL:https://asafeplaceforhelp.org/program/youth-activities-snowman-building-snowflakes/
ORGANIZER;CN="A Safe Place":MAILTO:ktanzer@asafeplaceforhelp.org
END:VEVENT
BEGIN:VEVENT
DTSTART;TZID=America/Chicago:20240201T153000
DTEND;TZID=America/Chicago:20240201T153000
DTSTAMP:20260420T050722
CREATED:20240130T213437Z
LAST-MODIFIED:20240130T213437Z
UID:20388-1706801400-1706801400@asafeplaceforhelp.org
SUMMARY:Lean in Feminism Club Presentation
DESCRIPTION:Closed to the public
URL:https://asafeplaceforhelp.org/program/lean-in-feminism-club-presentation/
LOCATION:Stevenson High School
ORGANIZER;CN="A Safe Place":MAILTO:ktanzer@asafeplaceforhelp.org
END:VEVENT
BEGIN:VEVENT
DTSTART;TZID=America/Chicago:20240205T170000
DTEND;TZID=America/Chicago:20240205T183000
DTSTAMP:20260420T050722
CREATED:20240119T145404Z
LAST-MODIFIED:20240119T145404Z
UID:20379-1707152400-1707157800@asafeplaceforhelp.org
SUMMARY:Youth Self Defense Class
DESCRIPTION:Angel’s Boxing Academy\n3454 Washington St.\nPark City\, IL
URL:https://asafeplaceforhelp.org/program/youth-self-defense-class/
ORGANIZER;CN="A Safe Place":MAILTO:ktanzer@asafeplaceforhelp.org
END:VEVENT
BEGIN:VEVENT
DTSTART;TZID=America/Chicago:20240206T173000
DTEND;TZID=America/Chicago:20240206T173000
DTSTAMP:20260420T050722
CREATED:20240130T213625Z
LAST-MODIFIED:20240130T214545Z
UID:20390-1707240600-1707240600@asafeplaceforhelp.org
SUMMARY:Public: Lake County Rising
DESCRIPTION:Located in Auditorium AO11
URL:https://asafeplaceforhelp.org/program/lake-county-rising/
LOCATION:College of Lake County\, Grayslake\, IL\, 60030
ORGANIZER;CN="A Safe Place":MAILTO:ktanzer@asafeplaceforhelp.org
END:VEVENT
BEGIN:VEVENT
DTSTART;TZID=America/Chicago:20240212T083000
DTEND;TZID=America/Chicago:20240212T083000
DTSTAMP:20260420T050722
CREATED:20240130T213951Z
LAST-MODIFIED:20240130T214801Z
UID:20394-1707726600-1707726600@asafeplaceforhelp.org
SUMMARY:40-Hour Domestic Violence Training
DESCRIPTION:Closed to the public
URL:https://asafeplaceforhelp.org/program/40-hour-domestic-violence-training/
LOCATION:Lake Forest\, IL\, Lake Forest\, IL\, United States
ORGANIZER;CN="A Safe Place":MAILTO:ktanzer@asafeplaceforhelp.org
END:VEVENT
BEGIN:VEVENT
DTSTART;TZID=America/Chicago:20240212T183000
DTEND;TZID=America/Chicago:20240212T183000
DTSTAMP:20260420T050722
CREATED:20240130T215249Z
LAST-MODIFIED:20240130T215249Z
UID:20408-1707762600-1707762600@asafeplaceforhelp.org
SUMMARY:Board of Directors Meeting
DESCRIPTION:Closed to the public
URL:https://asafeplaceforhelp.org/program/board-of-directors-meeting/
ORGANIZER;CN="A Safe Place":MAILTO:ktanzer@asafeplaceforhelp.org
END:VEVENT
BEGIN:VEVENT
DTSTART;TZID=America/Chicago:20240213T134500
DTEND;TZID=America/Chicago:20240213T134500
DTSTAMP:20260420T050722
CREATED:20240130T214044Z
LAST-MODIFIED:20240130T214819Z
UID:20395-1707831900-1707831900@asafeplaceforhelp.org
SUMMARY:Mundelein High School Wellness Program Presentation
DESCRIPTION:Closed to the public
URL:https://asafeplaceforhelp.org/program/mundelein-high-school-wellness-program-presentation/
LOCATION:Mundelein High School
ORGANIZER;CN="A Safe Place":MAILTO:ktanzer@asafeplaceforhelp.org
END:VEVENT
BEGIN:VEVENT
DTSTART;TZID=America/Chicago:20240214T083000
DTEND;TZID=America/Chicago:20240214T083000
DTSTAMP:20260420T050722
CREATED:20240130T214128Z
LAST-MODIFIED:20240130T214839Z
UID:20397-1707899400-1707899400@asafeplaceforhelp.org
SUMMARY:40-Hour Domestic Violence Training
DESCRIPTION:Closed to the public
URL:https://asafeplaceforhelp.org/program/40-hour-domestic-violence-training-2/
LOCATION:Lake Forest\, IL\, Lake Forest\, IL\, United States
ORGANIZER;CN="A Safe Place":MAILTO:ktanzer@asafeplaceforhelp.org
END:VEVENT
BEGIN:VEVENT
DTSTART;TZID=America/Chicago:20240215T150000
DTEND;TZID=America/Chicago:20240215T173000
DTSTAMP:20260420T050722
CREATED:20240119T145649Z
LAST-MODIFIED:20240119T145649Z
UID:20381-1708009200-1708018200@asafeplaceforhelp.org
SUMMARY:Youth Activities: World Kindness Day
DESCRIPTION:1801 N Sheridan Rd.\,\nNorth Chicago\, IL
URL:https://asafeplaceforhelp.org/program/youth-activities-world-kindness-day/
LOCATION:North Chicago\, IL\, 1801 N Sheridan Rd\, North Chicago
ORGANIZER;CN="A Safe Place":MAILTO:ktanzer@asafeplaceforhelp.org
END:VEVENT
BEGIN:VEVENT
DTSTART;TZID=America/Chicago:20240216T083000
DTEND;TZID=America/Chicago:20240216T083000
DTSTAMP:20260420T050722
CREATED:20240130T214155Z
LAST-MODIFIED:20240130T214900Z
UID:20398-1708072200-1708072200@asafeplaceforhelp.org
SUMMARY:40-Hour Domestic Violence Training
DESCRIPTION:Closed to the public
URL:https://asafeplaceforhelp.org/program/40-hour-domestic-violence-training-3/
LOCATION:Lake Forest\, IL\, Lake Forest\, IL\, United States
ORGANIZER;CN="A Safe Place":MAILTO:ktanzer@asafeplaceforhelp.org
END:VEVENT
BEGIN:VEVENT
DTSTART;TZID=America/Chicago:20240220T093000
DTEND;TZID=America/Chicago:20240220T093000
DTSTAMP:20260420T050722
CREATED:20240130T214240Z
LAST-MODIFIED:20240130T215035Z
UID:20399-1708421400-1708421400@asafeplaceforhelp.org
SUMMARY:Human Trafficking Training
DESCRIPTION:Not open to the public
URL:https://asafeplaceforhelp.org/program/human-trafficking-training/
LOCATION:Marriott Lincolnshire Resort
ORGANIZER;CN="A Safe Place":MAILTO:ktanzer@asafeplaceforhelp.org
END:VEVENT
END:VCALENDAR